BEGIN:VCALENDAR
VERSION:2.0
PRODID:-//Kreavivo Praxis für Kunsttherapie - ECPv6.15.13//NONSGML v1.0//EN
CALSCALE:GREGORIAN
METHOD:PUBLISH
X-WR-CALNAME:Kreavivo Praxis für Kunsttherapie
X-ORIGINAL-URL:https://kreavivo.de
X-WR-CALDESC:Veranstaltungen für Kreavivo Praxis für Kunsttherapie
REFRESH-INTERVAL;VALUE=DURATION:PT1H
X-Robots-Tag:noindex
X-PUBLISHED-TTL:PT1H
BEGIN:VTIMEZONE
TZID:Europe/Berlin
BEGIN:DAYLIGHT
TZOFFSETFROM:+0100
TZOFFSETTO:+0200
TZNAME:CEST
DTSTART:20240331T010000
END:DAYLIGHT
BEGIN:STANDARD
TZOFFSETFROM:+0200
TZOFFSETTO:+0100
TZNAME:CET
DTSTART:20241027T010000
END:STANDARD
BEGIN:DAYLIGHT
TZOFFSETFROM:+0100
TZOFFSETTO:+0200
TZNAME:CEST
DTSTART:20250330T010000
END:DAYLIGHT
BEGIN:STANDARD
TZOFFSETFROM:+0200
TZOFFSETTO:+0100
TZNAME:CET
DTSTART:20251026T010000
END:STANDARD
BEGIN:DAYLIGHT
TZOFFSETFROM:+0100
TZOFFSETTO:+0200
TZNAME:CEST
DTSTART:20260329T010000
END:DAYLIGHT
BEGIN:STANDARD
TZOFFSETFROM:+0200
TZOFFSETTO:+0100
TZNAME:CET
DTSTART:20261025T010000
END:STANDARD
END:VTIMEZONE
BEGIN:VEVENT
DTSTART;TZID=Europe/Berlin:20250527T093000
DTEND;TZID=Europe/Berlin:20250527T103000
DTSTAMP:20260421T121531
CREATED:20250318T152139Z
LAST-MODIFIED:20250318T152320Z
UID:7696-1748338200-1748341800@kreavivo.de
SUMMARY:Kreativwerkstatt-Kurs "Minis" (2-5 Jahre\, mit einer Begleitperson)
DESCRIPTION:Bei diesem Kurs kommen die Kleinsten in Begleitung eines Eltern- oder Großelternteils wöchentlich für je 1 Stunde zu festen Terminen in der Kreativwerkstatt zusammen. Er ist für Kinder und Eltern konzipiert\, die den Kontakt / Austausch mit Gleichgesinnten suchen.Zusammen erforschen wir verschiedene kreative Ideen wie z. B.  Malen\, Kneten\, Matschen\, Formen und Stempeln. Dabei wird der natürliche Entdeckergeist des Kindes (mit dem es sich die Welt erschließt) gefördert und die Beziehung zur Begleitperson gestärkt. Spaß kommt hier definitiv nicht zu kurz.Themenschwerpunkte werden je nach Gruppenkonstellation individuell angepasst. Sehr gern können Sie auch eigene Ideen und Anregungen mit einbringen. Dadurch erhält jeder Kurs seine persönliche Note und die Bedürfnisse jedes Einzelnen finden Beachtung. \n\n\n\n\n\n\n\nEine angenehme Gruppengröße von max. 4 Kindern und je einer Begleitpersonen lädt zum freien und entspannten Experimentieren ein. \n\n\n\nMindestteilnehmerzahl: 2 Kinder (mit Begleitperson) \n\n\n\nIn den Kosten enthalten ist sämtliches verbrauchtes/genutztes Material. \n\n\n\nEin Einstieg ist nach Absprache bei freien Plätzen jederzeit möglich.Bei Einstieg in einen bereits laufenden Block werden die Kosten ab dem Einstieg bis zum Kursende berechnet. \n\n\n\n \n\n\n\n\n\n\n\nimmer am Dienstag\, 09.30 – 10.30 Uhr (60 Minuten) außer an Feiertagen und in den Ferien \n\n\n\nTermine: 29.04.\, 06.05.\, 13.05.\, 20.05.\, 27.05.2025 \n\n\n\nKursgebühr: 5 Termine à 22 € (Kind inkl. Begleitperson)\, gesamt 110 €
URL:https://kreavivo.de/termin/kreativwerkstatt-minis-5
LOCATION:Adresse\, Kirchberger Str. 7\, Wilkau-Haßlau\, Sachsen\, 08112\, Deutschland
CATEGORIES:Kreativwerkstatt,Termine
ATTACH;FMTTYPE=image/jpeg:https://kreavivo.de/wp-content/uploads/2024/04/bunte_haende-197895.jpg
ORGANIZER;CN="Kreavivo - Praxis f%C3%BCr Kunsttherapie":MAILTO:info@kreavivo.de
END:VEVENT
END:VCALENDAR