BEGIN:VCALENDAR
VERSION:2.0
PRODID:-//Kreavivo Praxis für Kunsttherapie - ECPv6.15.13//NONSGML v1.0//EN
CALSCALE:GREGORIAN
METHOD:PUBLISH
X-ORIGINAL-URL:https://kreavivo.de
X-WR-CALDESC:Veranstaltungen für Kreavivo Praxis für Kunsttherapie
REFRESH-INTERVAL;VALUE=DURATION:PT1H
X-Robots-Tag:noindex
X-PUBLISHED-TTL:PT1H
BEGIN:VTIMEZONE
TZID:Europe/Berlin
BEGIN:DAYLIGHT
TZOFFSETFROM:+0100
TZOFFSETTO:+0200
TZNAME:CEST
DTSTART:20240331T010000
END:DAYLIGHT
BEGIN:STANDARD
TZOFFSETFROM:+0200
TZOFFSETTO:+0100
TZNAME:CET
DTSTART:20241027T010000
END:STANDARD
BEGIN:DAYLIGHT
TZOFFSETFROM:+0100
TZOFFSETTO:+0200
TZNAME:CEST
DTSTART:20250330T010000
END:DAYLIGHT
BEGIN:STANDARD
TZOFFSETFROM:+0200
TZOFFSETTO:+0100
TZNAME:CET
DTSTART:20251026T010000
END:STANDARD
BEGIN:DAYLIGHT
TZOFFSETFROM:+0100
TZOFFSETTO:+0200
TZNAME:CEST
DTSTART:20260329T010000
END:DAYLIGHT
BEGIN:STANDARD
TZOFFSETFROM:+0200
TZOFFSETTO:+0100
TZNAME:CET
DTSTART:20261025T010000
END:STANDARD
END:VTIMEZONE
BEGIN:VEVENT
DTSTART;TZID=Europe/Berlin:20251002T150000
DTEND;TZID=Europe/Berlin:20251002T163000
DTSTAMP:20260423T002614
CREATED:20250525T202648Z
LAST-MODIFIED:20250525T202717Z
UID:8052-1759417200-1759422600@kreavivo.de
SUMMARY:Malraum-Kurs "Kids" (6-11 Jahre)
DESCRIPTION:Der Malraum bietet Kindern einen sicheren und urteilsfreien Ort\, an dem sie durch das Malen ihre Kreativität und Emotionen ausdrücken können. Dabei wird der Fokus auf den Prozess des Malens gelegt\, nicht auf das Endprodukt\, was Kindern hilft\, sich ohne Leistungsdruck zu entfalten. Es wird der eigenen Intuition nachgespürt und der Fantasie gefolgt.Das Experimentieren mit Farben unterstützt die Entwicklung einer künstlerischen Sprache. Diese Erfahrung kann für Kinder sehr bereichernd sein\, da sie nicht nur ihre kreative Seite erkunden\, sondern auch wichtige soziale und emotionale Fähigkeiten aufnehmen\, und sich darin üben Gedanken und Gefühle durch Farben und Formen auszudrücken. Für die persönliche Entwicklung ist dies eine wertvolle Fähigkeit.Das regelmäßige begleitete Malen fördert die Konzentration und Feinmotorik\, wirkt beruhigend\, regt Glücksgefühle an und stärkt die Persönlichkeit. Es ist ein wohltuender Ausgleich zum oftmals regelbehafteten Alltag. \n\n\n\n\n\n\n\nNach dem Malprozess erfolgt keine Auswertung der Bilder. Zudem verbleiben die Werke im Malraum. Gemalt wird in einer kleinen Gruppe von max. 7 Kindern. Malkenntnisse sind nicht erforderlich.   \n\n\n\nMindestteilnehmerzahl: 3 Kinder \n\n\n\nIn den Kosten enthalten ist sämtliches verbrauchtes/genutztes Material. \n\n\n\nEin Einstieg ist nach Absprache bei freien Plätzen jederzeit möglich.Bei Einstieg in einen bereits laufenden Block werden die Kosten ab dem Einstieg bis zum Kursende berechnet. \n\n\n\n \n\n\n\n\n\n\n\nimmer am Donnerstag\, 15.00 – 16.30 Uhr (90 Minuten) außer an Feiertagen und in den Ferien \n\n\n\nTermine: 04.09.\, 11.09.\, 18.09.\, 25.09.\, 02.10.2025 \n\n\n\nKursgebühr: 5 Termine à 13 € (pro Kind)\, gesamt 65 €
URL:https://kreavivo.de/termin/malraum-kids-5
LOCATION:Adresse\, Kirchberger Str. 7\, Wilkau-Haßlau\, Sachsen\, 08112\, Deutschland
CATEGORIES:Malraum,Termine
ATTACH;FMTTYPE=image/jpeg:https://kreavivo.de/wp-content/uploads/2024/05/Malraum_Kurse_Kids.jpg
ORGANIZER;CN="Kreavivo - Praxis f%C3%BCr Kunsttherapie":MAILTO:info@kreavivo.de
END:VEVENT
BEGIN:VEVENT
DTSTART;TZID=Europe/Berlin:20251002T170000
DTEND;TZID=Europe/Berlin:20251002T183000
DTSTAMP:20260423T002614
CREATED:20250525T203603Z
LAST-MODIFIED:20250525T203635Z
UID:8077-1759424400-1759429800@kreavivo.de
SUMMARY:Malraum-Kurs "Teens" (12-15 Jahre)
DESCRIPTION:Ein Malraum bietet Jugendlichen eine ungezwungene Umgebung\, in der sie ihre Kreativität und den Selbstausdruck frei entfalten können. Hier können sie ohne Bewertung und Druck malen\, um ihre eigenen Ideen und Gefühle durch das Malen zu erkunden. Es ist ein geschützter Ort\, der es den Jugendlichen ermöglicht\, sich ohne Angst vor Kritik oder Vergleich zu entfalten. Darüber hinaus fördert das regelmäßige begleitete Malen die Entwicklung von Feinmotorik und Konzentration. In einer Zeit\, in der Jugendliche oft durch digitale Medien überflutet werden\, bietet der Malraum eine wertvolle Gelegenheit\, sich auf das Hier und Jetzt zu konzentrieren und eine Pause von der ständigen Reizüberflutung zu nehmen. \n\n\n\n\n\n\n\nNach dem Malprozess erfolgt keine Auswertung der Bilder. Zudem verbleiben die Werke im Malraum. Gemalt wird in einer kleinen Gruppe von max. 7 Jugendlichen. Malkentnisse sind nicht erforderlich. \n\n\n\nMindestteilnehmerzahl: 3 Jugendliche \n\n\n\nIn den Kosten enthalten ist sämtliches verbrauchtes/genutztes Material. \n\n\n\nEin Einstieg ist nach Absprache bei freien Plätzen jederzeit möglich.Bei Einstieg in einen bereits laufenden Block werden die Kosten ab dem Einstieg bis zum Kursende berechnet. \n\n\n\nKünstlerische Vorkenntnisse sind nicht erforderlich. \n\n\n\n\n\n\n\nimmer am Donnerstag\, 17:00 – 18:30 Uhr (90 Minuten) außer an Feiertagen und in den Ferien \n\n\n\nTermine: 04.09.\, 11.09.\, 18.09.\, 25.09.\, 02.10.2025 \n\n\n\nKursgebühr: 5 Termine à 13 € (pro Jugendlicher)\, gesamt 65 €
URL:https://kreavivo.de/termin/malraum-teens-5
LOCATION:Adresse\, Kirchberger Str. 7\, Wilkau-Haßlau\, Sachsen\, 08112\, Deutschland
CATEGORIES:Malraum,Termine
ATTACH;FMTTYPE=image/jpeg:https://kreavivo.de/wp-content/uploads/2024/05/Malraum_Kurse_Teens.jpg
ORGANIZER;CN="Kreavivo - Praxis f%C3%BCr Kunsttherapie":MAILTO:info@kreavivo.de
END:VEVENT
BEGIN:VEVENT
DTSTART;TZID=Europe/Berlin:20251002T190000
DTEND;TZID=Europe/Berlin:20251002T203000
DTSTAMP:20260423T002614
CREATED:20250525T204400Z
LAST-MODIFIED:20250525T204437Z
UID:8102-1759431600-1759437000@kreavivo.de
SUMMARY:Malraum-Kurs "Erwachsene" (16 - 64 Jahre)
DESCRIPTION:Hier können Sie entspannen und sich frei von Leistungsdruck und Bewertung ganz auf den Prozess des Malens konzentrieren\, in Ihre innere Welt eintauchen und diese durch Farben und Formen zum Ausdruck bringen. Das regelmäßige begleitete Malen ist besonders für Menschen\, die in ihrem Alltag wenig Zeit für kreative Betätigungen finden\, eine wertvolle Auszeit und kann dabei helfen\, Stress abzubauen\, Wohlbefinden zu steigern und Selbstbewusstsein zu stärken. Die gemischte Altersgruppe lädt ein\, voneinander zu lernen und die eigene Sozialkompetenz zu erweitern. \n\n\n\n\n\n\n\nNach dem Malprozess erfolgt keine Auswertung der Bilder. Zudem verbleiben die Werke im Malraum. Gemalt wird in einer kleinen Gruppe von max. 7 Erwachsenen. Malkentnisse sind nicht erforderlich.   \n\n\n\nMindestteilnehmerzahl: 3 Erwachsene \n\n\n\nIn den Kosten enthalten ist sämtliches verbrauchtes/genutztes Material. \n\n\n\nEin Einstieg ist nach Absprache bei freien Plätzen jederzeit möglich.Bei Einstieg in einen bereits laufenden Block werden die Kosten ab dem Einstieg bis zum Kursende berechnet. \n\n\n\n\n\n\n\nimmer am Donnerstag\, 19.00 – 20.30 Uhr (90 Minuten) außer an Feiertagen und in den Ferien \n\n\n\nTermine: 04.09.\, 11.09.\, 18.09.\, 25.09.\, 02.10.2025 \n\n\n\nKursgebühr: 5 Termine à 16 € (pro  Erwachsener)\, gesamt 80 €
URL:https://kreavivo.de/termin/malraum-erwachsene-5
LOCATION:Adresse\, Kirchberger Str. 7\, Wilkau-Haßlau\, Sachsen\, 08112\, Deutschland
CATEGORIES:Malraum,Termine
ATTACH;FMTTYPE=image/jpeg:https://kreavivo.de/wp-content/uploads/2024/05/Malraum_Kurse_Erwachsene.jpg
ORGANIZER;CN="Kreavivo - Praxis f%C3%BCr Kunsttherapie":MAILTO:info@kreavivo.de
END:VEVENT
END:VCALENDAR