BEGIN:VCALENDAR
VERSION:2.0
PRODID:-//Kreavivo Praxis für Kunsttherapie - ECPv6.15.13//NONSGML v1.0//EN
CALSCALE:GREGORIAN
METHOD:PUBLISH
X-ORIGINAL-URL:https://kreavivo.de
X-WR-CALDESC:Veranstaltungen für Kreavivo Praxis für Kunsttherapie
REFRESH-INTERVAL;VALUE=DURATION:PT1H
X-Robots-Tag:noindex
X-PUBLISHED-TTL:PT1H
BEGIN:VTIMEZONE
TZID:Europe/Berlin
BEGIN:DAYLIGHT
TZOFFSETFROM:+0100
TZOFFSETTO:+0200
TZNAME:CEST
DTSTART:20240331T010000
END:DAYLIGHT
BEGIN:STANDARD
TZOFFSETFROM:+0200
TZOFFSETTO:+0100
TZNAME:CET
DTSTART:20241027T010000
END:STANDARD
BEGIN:DAYLIGHT
TZOFFSETFROM:+0100
TZOFFSETTO:+0200
TZNAME:CEST
DTSTART:20250330T010000
END:DAYLIGHT
BEGIN:STANDARD
TZOFFSETFROM:+0200
TZOFFSETTO:+0100
TZNAME:CET
DTSTART:20251026T010000
END:STANDARD
BEGIN:DAYLIGHT
TZOFFSETFROM:+0100
TZOFFSETTO:+0200
TZNAME:CEST
DTSTART:20260329T010000
END:DAYLIGHT
BEGIN:STANDARD
TZOFFSETFROM:+0200
TZOFFSETTO:+0100
TZNAME:CET
DTSTART:20261025T010000
END:STANDARD
END:VTIMEZONE
BEGIN:VEVENT
DTSTART;TZID=Europe/Berlin:20251204T150000
DTEND;TZID=Europe/Berlin:20251204T163000
DTSTAMP:20260422T141024
CREATED:20250525T202733Z
LAST-MODIFIED:20250525T202842Z
UID:8055-1764860400-1764865800@kreavivo.de
SUMMARY:Malraum-Kurs "Kids" (6-11 Jahre)
DESCRIPTION:Der Malraum bietet Kindern einen sicheren und urteilsfreien Ort\, an dem sie durch das Malen ihre Kreativität und Emotionen ausdrücken können. Dabei wird der Fokus auf den Prozess des Malens gelegt\, nicht auf das Endprodukt\, was Kindern hilft\, sich ohne Leistungsdruck zu entfalten. Es wird der eigenen Intuition nachgespürt und der Fantasie gefolgt.Das Experimentieren mit Farben unterstützt die Entwicklung einer künstlerischen Sprache. Diese Erfahrung kann für Kinder sehr bereichernd sein\, da sie nicht nur ihre kreative Seite erkunden\, sondern auch wichtige soziale und emotionale Fähigkeiten aufnehmen\, und sich darin üben Gedanken und Gefühle durch Farben und Formen auszudrücken. Für die persönliche Entwicklung ist dies eine wertvolle Fähigkeit.Das regelmäßige begleitete Malen fördert die Konzentration und Feinmotorik\, wirkt beruhigend\, regt Glücksgefühle an und stärkt die Persönlichkeit. Es ist ein wohltuender Ausgleich zum oftmals regelbehafteten Alltag. \n\n\n\n\n\n\n\nNach dem Malprozess erfolgt keine Auswertung der Bilder. Zudem verbleiben die Werke im Malraum. Gemalt wird in einer kleinen Gruppe von max. 7 Kindern. Malkenntnisse sind nicht erforderlich.   \n\n\n\nMindestteilnehmerzahl: 3 Kinder \n\n\n\nIn den Kosten enthalten ist sämtliches verbrauchtes/genutztes Material. \n\n\n\nEin Einstieg ist nach Absprache bei freien Plätzen jederzeit möglich.Bei Einstieg in einen bereits laufenden Block werden die Kosten ab dem Einstieg bis zum Kursende berechnet. \n\n\n\n \n\n\n\n\n\n\n\nimmer am Donnerstag\, 15.00 – 16.30 Uhr (90 Minuten) außer an Feiertagen und in den Ferien \n\n\n\nTermine: 04.12.\, 11.12.\, 18.12.2025 \n\n\n\nKursgebühr: 3 Termine à 13 € (pro Kind)\, gesamt 39 €
URL:https://kreavivo.de/termin/malraum-kids-2-1
LOCATION:Adresse\, Kirchberger Str. 7\, Wilkau-Haßlau\, Sachsen\, 08112\, Deutschland
CATEGORIES:Malraum,Termine
ATTACH;FMTTYPE=image/jpeg:https://kreavivo.de/wp-content/uploads/2024/05/Malraum_Kurse_Kids.jpg
ORGANIZER;CN="Kreavivo - Praxis f%C3%BCr Kunsttherapie":MAILTO:info@kreavivo.de
END:VEVENT
BEGIN:VEVENT
DTSTART;TZID=Europe/Berlin:20251204T170000
DTEND;TZID=Europe/Berlin:20251204T183000
DTSTAMP:20260422T141024
CREATED:20250525T203643Z
LAST-MODIFIED:20250525T203745Z
UID:8080-1764867600-1764873000@kreavivo.de
SUMMARY:Malraum-Kurs "Teens" (12-15 Jahre)
DESCRIPTION:Ein Malraum bietet Jugendlichen eine ungezwungene Umgebung\, in der sie ihre Kreativität und den Selbstausdruck frei entfalten können. Hier können sie ohne Bewertung und Druck malen\, um ihre eigenen Ideen und Gefühle durch das Malen zu erkunden. Es ist ein geschützter Ort\, der es den Jugendlichen ermöglicht\, sich ohne Angst vor Kritik oder Vergleich zu entfalten. Darüber hinaus fördert das regelmäßige begleitete Malen die Entwicklung von Feinmotorik und Konzentration. In einer Zeit\, in der Jugendliche oft durch digitale Medien überflutet werden\, bietet der Malraum eine wertvolle Gelegenheit\, sich auf das Hier und Jetzt zu konzentrieren und eine Pause von der ständigen Reizüberflutung zu nehmen. \n\n\n\n\n\n\n\nNach dem Malprozess erfolgt keine Auswertung der Bilder. Zudem verbleiben die Werke im Malraum. Gemalt wird in einer kleinen Gruppe von max. 7 Jugendlichen. Malkentnisse sind nicht erforderlich. \n\n\n\nMindestteilnehmerzahl: 3 Jugendliche \n\n\n\nIn den Kosten enthalten ist sämtliches verbrauchtes/genutztes Material. \n\n\n\nEin Einstieg ist nach Absprache bei freien Plätzen jederzeit möglich.Bei Einstieg in einen bereits laufenden Block werden die Kosten ab dem Einstieg bis zum Kursende berechnet. \n\n\n\nKünstlerische Vorkenntnisse sind nicht erforderlich. \n\n\n\n\n\n\n\nimmer am Donnerstag\, 17:00 – 18:30 Uhr (90 Minuten) außer an Feiertagen und in den Ferien \n\n\n\nTermine: 04.12.\, 11.12.\, 18.12.2025 \n\n\n\nKursgebühr: 3 Termine à 13 € (pro Jugendlicher)\, gesamt 39 €
URL:https://kreavivo.de/termin/malraum-teens-2-1
LOCATION:Adresse\, Kirchberger Str. 7\, Wilkau-Haßlau\, Sachsen\, 08112\, Deutschland
CATEGORIES:Malraum,Termine
ATTACH;FMTTYPE=image/jpeg:https://kreavivo.de/wp-content/uploads/2024/05/Malraum_Kurse_Teens.jpg
ORGANIZER;CN="Kreavivo - Praxis f%C3%BCr Kunsttherapie":MAILTO:info@kreavivo.de
END:VEVENT
BEGIN:VEVENT
DTSTART;TZID=Europe/Berlin:20251204T190000
DTEND;TZID=Europe/Berlin:20251204T203000
DTSTAMP:20260422T141024
CREATED:20250525T204445Z
LAST-MODIFIED:20250525T204548Z
UID:8105-1764874800-1764880200@kreavivo.de
SUMMARY:Malraum-Kurs "Erwachsene" (16 - 64 Jahre)
DESCRIPTION:Hier können Sie entspannen und sich frei von Leistungsdruck und Bewertung ganz auf den Prozess des Malens konzentrieren\, in Ihre innere Welt eintauchen und diese durch Farben und Formen zum Ausdruck bringen. Das regelmäßige begleitete Malen ist besonders für Menschen\, die in ihrem Alltag wenig Zeit für kreative Betätigungen finden\, eine wertvolle Auszeit und kann dabei helfen\, Stress abzubauen\, Wohlbefinden zu steigern und Selbstbewusstsein zu stärken. Die gemischte Altersgruppe lädt ein\, voneinander zu lernen und die eigene Sozialkompetenz zu erweitern. \n\n\n\n\n\n\n\nNach dem Malprozess erfolgt keine Auswertung der Bilder. Zudem verbleiben die Werke im Malraum. Gemalt wird in einer kleinen Gruppe von max. 7 Erwachsenen. Malkentnisse sind nicht erforderlich.   \n\n\n\nMindestteilnehmerzahl: 3 Erwachsene \n\n\n\nIn den Kosten enthalten ist sämtliches verbrauchtes/genutztes Material. \n\n\n\nEin Einstieg ist nach Absprache bei freien Plätzen jederzeit möglich.Bei Einstieg in einen bereits laufenden Block werden die Kosten ab dem Einstieg bis zum Kursende berechnet. \n\n\n\n\n\n\n\nimmer am Donnerstag\, 19.00 – 20.30 Uhr (90 Minuten) außer an Feiertagen und in den Ferien \n\n\n\nTermine: 04.12.\, 11.12.\, 18.12.2025 \n\n\n\nKursgebühr: 3 Termine à 16 € (pro  Erwachsener)\, gesamt 48 €
URL:https://kreavivo.de/termin/malraum-erwachsene-2-1
LOCATION:Adresse\, Kirchberger Str. 7\, Wilkau-Haßlau\, Sachsen\, 08112\, Deutschland
CATEGORIES:Malraum,Termine
ATTACH;FMTTYPE=image/jpeg:https://kreavivo.de/wp-content/uploads/2024/05/Malraum_Kurse_Erwachsene.jpg
ORGANIZER;CN="Kreavivo - Praxis f%C3%BCr Kunsttherapie":MAILTO:info@kreavivo.de
END:VEVENT
BEGIN:VEVENT
DTSTART;TZID=Europe/Berlin:20251206T160000
DTEND;TZID=Europe/Berlin:20251206T180000
DTSTAMP:20260422T141024
CREATED:20241105T111616Z
LAST-MODIFIED:20250525T184107Z
UID:6730-1765036800-1765044000@kreavivo.de
SUMMARY:Kerzenzauber - Kerzen kreativ gestalten
DESCRIPTION:Kreative Auszeit für Kinder (ab 6 Jahre)\, Jugendliche und Erwachsene (als Einzelperson oder geschlossene Gruppe buchbar) \n\n\n\n\n\n\n\n\n\n„Es ist besser\, ein einziges kleines Licht anzuzünden\, als die Dunkelheit zu verfluchen.“ – KonfuziusKerzen sind mehr als nur eine Lichtquelle. Sie sind ein Symbol für Wärme\, Geborgenheit\, Hoffnung und Kreativität. Sie berühren unsere Sinne\, wecken Emotionen und verbinden uns mit unserer Vergangenheit und unseren Traditionen.In diesem Workshop verbinden wir die Freude am Gestalten mit der Achtsamkeit für uns selbst. Wir erschaffen nicht nur wunderschöne Kerzen\, sondern nutzen das kreative Schaffen\, um zur Ruhe zu kommen\, Stress abzubauen\, unsere Stimmung zu verbessern und die Intuition zu stärken.Was Sie erwartet: \n\n\n\nIndividuelle Gestaltung:Auswahl an verschiedenen Farben und Materialien\, um ein ganz persönliches Farbspiel zu kreieren\, \n\n\n\nAchtsamkeit und Entspannung:In einer ruhigen Atmosphäre (max. 7 Personen) kommen Sie mit sich in Kontakt und tanken dabei neue Energie. \n\n\n\nKunsttherapeut. Begleitung:Eine erfahrene Kunsttherapeutin unterstützt den Gestaltungsprozess. \n\n\n\nEinzigartige Erinnerungsstücke:Am Ende des Workshops halten Sie wunderschöne\, selbst verzierte Kerzen in Ihren Händen. \n\n\n\nGenießen Sie eine erdende kreative Auszeit in entspannter Atmosphäre mit Freunden\, Arbeitskollegen\, dem Partner oder für sich selbst unter Gleichgesinnten. \n\n\n\n\n\n\n\nGestaltet wird in einer kleinen Gruppe von max. 6 Teilnehmern.Vorkenntnisse sind nicht erforderlich. Somit ist der Workshop sehr gut für Anfänger geeignet.  \n\n\n\nMindestteilnehmerzahl: 4  \n\n\n\nGern kann auch ein individueller Termin nach Absprache mit mir vereinbart werden. Ich freue mich auf Sie! \n\n\n\n\n\n\n\nTermin: Samstag 06.12.2025\, 16 – 18 Uhr
URL:https://kreavivo.de/termin/kerzenzauber-2
LOCATION:Adresse\, Kirchberger Str. 7\, Wilkau-Haßlau\, Sachsen\, 08112\, Deutschland
CATEGORIES:Kreativwerkstatt,Sonstiges,Termine
ATTACH;FMTTYPE=image/jpeg:https://kreavivo.de/wp-content/uploads/2024/11/Workshop_Kerzenzauber_2.jpg
ORGANIZER;CN="Kreavivo - Praxis f%C3%BCr Kunsttherapie":MAILTO:info@kreavivo.de
END:VEVENT
BEGIN:VEVENT
DTSTART;TZID=Europe/Berlin:20251211T150000
DTEND;TZID=Europe/Berlin:20251211T163000
DTSTAMP:20260422T141024
CREATED:20250525T202849Z
LAST-MODIFIED:20250525T202916Z
UID:8058-1765465200-1765470600@kreavivo.de
SUMMARY:Malraum-Kurs "Kids" (6-11 Jahre)
DESCRIPTION:Der Malraum bietet Kindern einen sicheren und urteilsfreien Ort\, an dem sie durch das Malen ihre Kreativität und Emotionen ausdrücken können. Dabei wird der Fokus auf den Prozess des Malens gelegt\, nicht auf das Endprodukt\, was Kindern hilft\, sich ohne Leistungsdruck zu entfalten. Es wird der eigenen Intuition nachgespürt und der Fantasie gefolgt.Das Experimentieren mit Farben unterstützt die Entwicklung einer künstlerischen Sprache. Diese Erfahrung kann für Kinder sehr bereichernd sein\, da sie nicht nur ihre kreative Seite erkunden\, sondern auch wichtige soziale und emotionale Fähigkeiten aufnehmen\, und sich darin üben Gedanken und Gefühle durch Farben und Formen auszudrücken. Für die persönliche Entwicklung ist dies eine wertvolle Fähigkeit.Das regelmäßige begleitete Malen fördert die Konzentration und Feinmotorik\, wirkt beruhigend\, regt Glücksgefühle an und stärkt die Persönlichkeit. Es ist ein wohltuender Ausgleich zum oftmals regelbehafteten Alltag. \n\n\n\n\n\n\n\nNach dem Malprozess erfolgt keine Auswertung der Bilder. Zudem verbleiben die Werke im Malraum. Gemalt wird in einer kleinen Gruppe von max. 7 Kindern. Malkenntnisse sind nicht erforderlich.   \n\n\n\nMindestteilnehmerzahl: 3 Kinder \n\n\n\nIn den Kosten enthalten ist sämtliches verbrauchtes/genutztes Material. \n\n\n\nEin Einstieg ist nach Absprache bei freien Plätzen jederzeit möglich.Bei Einstieg in einen bereits laufenden Block werden die Kosten ab dem Einstieg bis zum Kursende berechnet. \n\n\n\n \n\n\n\n\n\n\n\nimmer am Donnerstag\, 15.00 – 16.30 Uhr (90 Minuten) außer an Feiertagen und in den Ferien \n\n\n\nTermine: 04.12.\, 11.12.\, 18.12.2025 \n\n\n\nKursgebühr: 3 Termine à 13 € (pro Kind)\, gesamt 39 €
URL:https://kreavivo.de/termin/malraum-kids-2-2
LOCATION:Adresse\, Kirchberger Str. 7\, Wilkau-Haßlau\, Sachsen\, 08112\, Deutschland
CATEGORIES:Malraum,Termine
ATTACH;FMTTYPE=image/jpeg:https://kreavivo.de/wp-content/uploads/2024/05/Malraum_Kurse_Kids.jpg
ORGANIZER;CN="Kreavivo - Praxis f%C3%BCr Kunsttherapie":MAILTO:info@kreavivo.de
END:VEVENT
BEGIN:VEVENT
DTSTART;TZID=Europe/Berlin:20251211T170000
DTEND;TZID=Europe/Berlin:20251211T183000
DTSTAMP:20260422T141024
CREATED:20250525T203751Z
LAST-MODIFIED:20250525T203850Z
UID:8083-1765472400-1765477800@kreavivo.de
SUMMARY:Malraum-Kurs "Teens" (12-15 Jahre)
DESCRIPTION:Ein Malraum bietet Jugendlichen eine ungezwungene Umgebung\, in der sie ihre Kreativität und den Selbstausdruck frei entfalten können. Hier können sie ohne Bewertung und Druck malen\, um ihre eigenen Ideen und Gefühle durch das Malen zu erkunden. Es ist ein geschützter Ort\, der es den Jugendlichen ermöglicht\, sich ohne Angst vor Kritik oder Vergleich zu entfalten. Darüber hinaus fördert das regelmäßige begleitete Malen die Entwicklung von Feinmotorik und Konzentration. In einer Zeit\, in der Jugendliche oft durch digitale Medien überflutet werden\, bietet der Malraum eine wertvolle Gelegenheit\, sich auf das Hier und Jetzt zu konzentrieren und eine Pause von der ständigen Reizüberflutung zu nehmen. \n\n\n\n\n\n\n\nNach dem Malprozess erfolgt keine Auswertung der Bilder. Zudem verbleiben die Werke im Malraum. Gemalt wird in einer kleinen Gruppe von max. 7 Jugendlichen. Malkentnisse sind nicht erforderlich. \n\n\n\nMindestteilnehmerzahl: 3 Jugendliche \n\n\n\nIn den Kosten enthalten ist sämtliches verbrauchtes/genutztes Material. \n\n\n\nEin Einstieg ist nach Absprache bei freien Plätzen jederzeit möglich.Bei Einstieg in einen bereits laufenden Block werden die Kosten ab dem Einstieg bis zum Kursende berechnet. \n\n\n\nKünstlerische Vorkenntnisse sind nicht erforderlich. \n\n\n\n\n\n\n\nimmer am Donnerstag\, 17:00 – 18:30 Uhr (90 Minuten) außer an Feiertagen und in den Ferien \n\n\n\nTermine: 04.12.\, 11.12.\, 18.12.2025 \n\n\n\nKursgebühr: 3 Termine à 13 € (pro Jugendlicher)\, gesamt 39 €
URL:https://kreavivo.de/termin/malraum-teens-2-2
LOCATION:Adresse\, Kirchberger Str. 7\, Wilkau-Haßlau\, Sachsen\, 08112\, Deutschland
CATEGORIES:Malraum,Termine
ATTACH;FMTTYPE=image/jpeg:https://kreavivo.de/wp-content/uploads/2024/05/Malraum_Kurse_Teens.jpg
ORGANIZER;CN="Kreavivo - Praxis f%C3%BCr Kunsttherapie":MAILTO:info@kreavivo.de
END:VEVENT
BEGIN:VEVENT
DTSTART;TZID=Europe/Berlin:20251211T190000
DTEND;TZID=Europe/Berlin:20251211T203000
DTSTAMP:20260422T141024
CREATED:20250525T204553Z
LAST-MODIFIED:20250525T204616Z
UID:8108-1765479600-1765485000@kreavivo.de
SUMMARY:Malraum-Kurs "Erwachsene" (16 - 64 Jahre)
DESCRIPTION:Hier können Sie entspannen und sich frei von Leistungsdruck und Bewertung ganz auf den Prozess des Malens konzentrieren\, in Ihre innere Welt eintauchen und diese durch Farben und Formen zum Ausdruck bringen. Das regelmäßige begleitete Malen ist besonders für Menschen\, die in ihrem Alltag wenig Zeit für kreative Betätigungen finden\, eine wertvolle Auszeit und kann dabei helfen\, Stress abzubauen\, Wohlbefinden zu steigern und Selbstbewusstsein zu stärken. Die gemischte Altersgruppe lädt ein\, voneinander zu lernen und die eigene Sozialkompetenz zu erweitern. \n\n\n\n\n\n\n\nNach dem Malprozess erfolgt keine Auswertung der Bilder. Zudem verbleiben die Werke im Malraum. Gemalt wird in einer kleinen Gruppe von max. 7 Erwachsenen. Malkentnisse sind nicht erforderlich.   \n\n\n\nMindestteilnehmerzahl: 3 Erwachsene \n\n\n\nIn den Kosten enthalten ist sämtliches verbrauchtes/genutztes Material. \n\n\n\nEin Einstieg ist nach Absprache bei freien Plätzen jederzeit möglich.Bei Einstieg in einen bereits laufenden Block werden die Kosten ab dem Einstieg bis zum Kursende berechnet. \n\n\n\n\n\n\n\nimmer am Donnerstag\, 19.00 – 20.30 Uhr (90 Minuten) außer an Feiertagen und in den Ferien \n\n\n\nTermine: 04.12.\, 11.12.\, 18.12.2025 \n\n\n\nKursgebühr: 3 Termine à 16 € (pro  Erwachsener)\, gesamt 48 €
URL:https://kreavivo.de/termin/malraum-erwachsene-2-2
LOCATION:Adresse\, Kirchberger Str. 7\, Wilkau-Haßlau\, Sachsen\, 08112\, Deutschland
CATEGORIES:Malraum,Termine
ATTACH;FMTTYPE=image/jpeg:https://kreavivo.de/wp-content/uploads/2024/05/Malraum_Kurse_Erwachsene.jpg
ORGANIZER;CN="Kreavivo - Praxis f%C3%BCr Kunsttherapie":MAILTO:info@kreavivo.de
END:VEVENT
BEGIN:VEVENT
DTSTART;TZID=Europe/Berlin:20251213T160000
DTEND;TZID=Europe/Berlin:20251213T180000
DTSTAMP:20260422T141024
CREATED:20241105T111102Z
LAST-MODIFIED:20250525T184221Z
UID:6720-1765641600-1765648800@kreavivo.de
SUMMARY:Kerzenzauber - Kerzen kreativ gestalten
DESCRIPTION:Kreative Auszeit für Kinder (ab 6 Jahre)\, Jugendliche und Erwachsene (als Einzelperson oder geschlossene Gruppe buchbar) \n\n\n\n\n\n\n\n\n\n„Es ist besser\, ein einziges kleines Licht anzuzünden\, als die Dunkelheit zu verfluchen.“ – KonfuziusKerzen sind mehr als nur eine Lichtquelle. Sie sind ein Symbol für Wärme\, Geborgenheit\, Hoffnung und Kreativität. Sie berühren unsere Sinne\, wecken Emotionen und verbinden uns mit unserer Vergangenheit und unseren Traditionen.In diesem Workshop verbinden wir die Freude am Gestalten mit der Achtsamkeit für uns selbst. Wir erschaffen nicht nur wunderschöne Kerzen\, sondern nutzen das kreative Schaffen\, um zur Ruhe zu kommen\, Stress abzubauen\, unsere Stimmung zu verbessern und die Intuition zu stärken.Was Sie erwartet: \n\n\n\nIndividuelle Gestaltung:Auswahl an verschiedenen Farben und Materialien\, um ein ganz persönliches Farbspiel zu kreieren. \n\n\n\nAchtsamkeit und Entspannung:In einer ruhigen Atmosphäre (max. 7 Personen) kommen Sie mit sich in Kontakt und tanken dabei neue Energie. \n\n\n\nKunsttherapeut. Begleitung:Eine erfahrene Kunsttherapeutin unterstützt den Gestaltungsprozess. \n\n\n\nEinzigartige Erinnerungsstücke:Am Ende des Workshops halten Sie wunderschöne\, selbst verzierte Kerzen in Ihren Händen. \n\n\n\nGenießen Sie eine erdende kreative Auszeit in entspannter Atmosphäre mit Freunden\, Arbeitskollegen\, dem Partner oder für sich selbst unter Gleichgesinnten. \n\n\n\n\n\n\n\nGestaltet wird in einer kleinen Gruppe von max. 6 Teilnehmern.Vorkenntnisse sind nicht erforderlich. Somit ist der Workshop sehr gut für Anfänger geeignet.  \n\n\n\nMindestteilnehmerzahl: 4  \n\n\n\nGern kann auch ein individueller Termin nach Absprache mit mir vereinbart werden. Ich freue mich auf Sie! \n\n\n\n\n\n\n\nTermin: Samstag 13.12.2025\, 16 – 18 Uhr
URL:https://kreavivo.de/termin/kerzenzauber-3
LOCATION:Adresse\, Kirchberger Str. 7\, Wilkau-Haßlau\, Sachsen\, 08112\, Deutschland
CATEGORIES:Kreativwerkstatt,Sonstiges,Termine
ATTACH;FMTTYPE=image/jpeg:https://kreavivo.de/wp-content/uploads/2024/11/Workshop_Kerzenzauber_2.jpg
ORGANIZER;CN="Kreavivo - Praxis f%C3%BCr Kunsttherapie":MAILTO:info@kreavivo.de
END:VEVENT
BEGIN:VEVENT
DTSTART;TZID=Europe/Berlin:20251218T150000
DTEND;TZID=Europe/Berlin:20251218T163000
DTSTAMP:20260422T141024
CREATED:20250525T202922Z
LAST-MODIFIED:20250525T202946Z
UID:8061-1766070000-1766075400@kreavivo.de
SUMMARY:Malraum-Kurs "Kids" (6-11 Jahre)
DESCRIPTION:Der Malraum bietet Kindern einen sicheren und urteilsfreien Ort\, an dem sie durch das Malen ihre Kreativität und Emotionen ausdrücken können. Dabei wird der Fokus auf den Prozess des Malens gelegt\, nicht auf das Endprodukt\, was Kindern hilft\, sich ohne Leistungsdruck zu entfalten. Es wird der eigenen Intuition nachgespürt und der Fantasie gefolgt.Das Experimentieren mit Farben unterstützt die Entwicklung einer künstlerischen Sprache. Diese Erfahrung kann für Kinder sehr bereichernd sein\, da sie nicht nur ihre kreative Seite erkunden\, sondern auch wichtige soziale und emotionale Fähigkeiten aufnehmen\, und sich darin üben Gedanken und Gefühle durch Farben und Formen auszudrücken. Für die persönliche Entwicklung ist dies eine wertvolle Fähigkeit.Das regelmäßige begleitete Malen fördert die Konzentration und Feinmotorik\, wirkt beruhigend\, regt Glücksgefühle an und stärkt die Persönlichkeit. Es ist ein wohltuender Ausgleich zum oftmals regelbehafteten Alltag. \n\n\n\n\n\n\n\nNach dem Malprozess erfolgt keine Auswertung der Bilder. Zudem verbleiben die Werke im Malraum. Gemalt wird in einer kleinen Gruppe von max. 7 Kindern. Malkenntnisse sind nicht erforderlich.   \n\n\n\nMindestteilnehmerzahl: 3 Kinder \n\n\n\nIn den Kosten enthalten ist sämtliches verbrauchtes/genutztes Material. \n\n\n\nEin Einstieg ist nach Absprache bei freien Plätzen jederzeit möglich.Bei Einstieg in einen bereits laufenden Block werden die Kosten ab dem Einstieg bis zum Kursende berechnet. \n\n\n\n \n\n\n\n\n\n\n\nimmer am Donnerstag\, 15.00 – 16.30 Uhr (90 Minuten) außer an Feiertagen und in den Ferien \n\n\n\nTermine: 04.12.\, 11.12.\, 18.12.2025 \n\n\n\nKursgebühr: 3 Termine à 13 € (pro Kind)\, gesamt 39 €
URL:https://kreavivo.de/termin/malraum-kids-2-3
LOCATION:Adresse\, Kirchberger Str. 7\, Wilkau-Haßlau\, Sachsen\, 08112\, Deutschland
CATEGORIES:Malraum,Termine
ATTACH;FMTTYPE=image/jpeg:https://kreavivo.de/wp-content/uploads/2024/05/Malraum_Kurse_Kids.jpg
ORGANIZER;CN="Kreavivo - Praxis f%C3%BCr Kunsttherapie":MAILTO:info@kreavivo.de
END:VEVENT
BEGIN:VEVENT
DTSTART;TZID=Europe/Berlin:20251218T170000
DTEND;TZID=Europe/Berlin:20251218T183000
DTSTAMP:20260422T141024
CREATED:20250525T203834Z
LAST-MODIFIED:20250525T203921Z
UID:8085-1766077200-1766082600@kreavivo.de
SUMMARY:Malraum-Kurs "Teens" (12-15 Jahre)
DESCRIPTION:Ein Malraum bietet Jugendlichen eine ungezwungene Umgebung\, in der sie ihre Kreativität und den Selbstausdruck frei entfalten können. Hier können sie ohne Bewertung und Druck malen\, um ihre eigenen Ideen und Gefühle durch das Malen zu erkunden. Es ist ein geschützter Ort\, der es den Jugendlichen ermöglicht\, sich ohne Angst vor Kritik oder Vergleich zu entfalten. Darüber hinaus fördert das regelmäßige begleitete Malen die Entwicklung von Feinmotorik und Konzentration. In einer Zeit\, in der Jugendliche oft durch digitale Medien überflutet werden\, bietet der Malraum eine wertvolle Gelegenheit\, sich auf das Hier und Jetzt zu konzentrieren und eine Pause von der ständigen Reizüberflutung zu nehmen. \n\n\n\n\n\n\n\nNach dem Malprozess erfolgt keine Auswertung der Bilder. Zudem verbleiben die Werke im Malraum. Gemalt wird in einer kleinen Gruppe von max. 7 Jugendlichen. Malkentnisse sind nicht erforderlich. \n\n\n\nMindestteilnehmerzahl: 3 Jugendliche \n\n\n\nIn den Kosten enthalten ist sämtliches verbrauchtes/genutztes Material. \n\n\n\nEin Einstieg ist nach Absprache bei freien Plätzen jederzeit möglich.Bei Einstieg in einen bereits laufenden Block werden die Kosten ab dem Einstieg bis zum Kursende berechnet. \n\n\n\nKünstlerische Vorkenntnisse sind nicht erforderlich. \n\n\n\n\n\n\n\nimmer am Donnerstag\, 17:00 – 18:30 Uhr (90 Minuten) außer an Feiertagen und in den Ferien \n\n\n\nTermine: 04.12.\, 11.12.\, 18.12.2025 \n\n\n\nKursgebühr: 3 Termine à 13 € (pro Jugendlicher)\, gesamt 39 €
URL:https://kreavivo.de/termin/malraum-teens-2-3
LOCATION:Adresse\, Kirchberger Str. 7\, Wilkau-Haßlau\, Sachsen\, 08112\, Deutschland
CATEGORIES:Malraum,Termine
ATTACH;FMTTYPE=image/jpeg:https://kreavivo.de/wp-content/uploads/2024/05/Malraum_Kurse_Teens.jpg
ORGANIZER;CN="Kreavivo - Praxis f%C3%BCr Kunsttherapie":MAILTO:info@kreavivo.de
END:VEVENT
BEGIN:VEVENT
DTSTART;TZID=Europe/Berlin:20251218T190000
DTEND;TZID=Europe/Berlin:20251218T203000
DTSTAMP:20260422T141024
CREATED:20250525T204621Z
LAST-MODIFIED:20250525T204648Z
UID:8111-1766084400-1766089800@kreavivo.de
SUMMARY:Malraum-Kurs "Erwachsene" (16 - 64 Jahre)
DESCRIPTION:Hier können Sie entspannen und sich frei von Leistungsdruck und Bewertung ganz auf den Prozess des Malens konzentrieren\, in Ihre innere Welt eintauchen und diese durch Farben und Formen zum Ausdruck bringen. Das regelmäßige begleitete Malen ist besonders für Menschen\, die in ihrem Alltag wenig Zeit für kreative Betätigungen finden\, eine wertvolle Auszeit und kann dabei helfen\, Stress abzubauen\, Wohlbefinden zu steigern und Selbstbewusstsein zu stärken. Die gemischte Altersgruppe lädt ein\, voneinander zu lernen und die eigene Sozialkompetenz zu erweitern. \n\n\n\n\n\n\n\nNach dem Malprozess erfolgt keine Auswertung der Bilder. Zudem verbleiben die Werke im Malraum. Gemalt wird in einer kleinen Gruppe von max. 7 Erwachsenen. Malkentnisse sind nicht erforderlich.   \n\n\n\nMindestteilnehmerzahl: 3 Erwachsene \n\n\n\nIn den Kosten enthalten ist sämtliches verbrauchtes/genutztes Material. \n\n\n\nEin Einstieg ist nach Absprache bei freien Plätzen jederzeit möglich.Bei Einstieg in einen bereits laufenden Block werden die Kosten ab dem Einstieg bis zum Kursende berechnet. \n\n\n\n\n\n\n\nimmer am Donnerstag\, 19.00 – 20.30 Uhr (90 Minuten) außer an Feiertagen und in den Ferien \n\n\n\nTermine: 04.12.\, 11.12.\, 18.12.2025 \n\n\n\nKursgebühr: 3 Termine à 16 € (pro  Erwachsener)\, gesamt 48 €
URL:https://kreavivo.de/termin/malraum-erwachsene-2-3
LOCATION:Adresse\, Kirchberger Str. 7\, Wilkau-Haßlau\, Sachsen\, 08112\, Deutschland
CATEGORIES:Malraum,Termine
ATTACH;FMTTYPE=image/jpeg:https://kreavivo.de/wp-content/uploads/2024/05/Malraum_Kurse_Erwachsene.jpg
ORGANIZER;CN="Kreavivo - Praxis f%C3%BCr Kunsttherapie":MAILTO:info@kreavivo.de
END:VEVENT
BEGIN:VEVENT
DTSTART;TZID=Europe/Berlin:20251220T160000
DTEND;TZID=Europe/Berlin:20251220T180000
DTSTAMP:20260422T141024
CREATED:20241105T111253Z
LAST-MODIFIED:20250525T184344Z
UID:6724-1766246400-1766253600@kreavivo.de
SUMMARY:Kerzenzauber - Kerzen kreativ gestalten
DESCRIPTION:Kreative Auszeit für Kinder (ab 6 Jahre)\, Jugendliche und Erwachsene (als Einzelperson oder geschlossene Gruppe buchbar) \n\n\n\n\n\n\n\n\n\n„Es ist besser\, ein einziges kleines Licht anzuzünden\, als die Dunkelheit zu verfluchen.“ – KonfuziusKerzen sind mehr als nur eine Lichtquelle. Sie sind ein Symbol für Wärme\, Geborgenheit\, Hoffnung und Kreativität. Sie berühren unsere Sinne\, wecken Emotionen und verbinden uns mit unserer Vergangenheit und unseren Traditionen.In diesem Workshop verbinden wir die Freude am Gestalten mit der Achtsamkeit für uns selbst. Wir erschaffen nicht nur wunderschöne Kerzen\, sondern nutzen das kreative Schaffen\, um zur Ruhe zu kommen\, Stress abzubauen\, unsere Stimmung zu verbessern und die Intuition zu stärken.Was Sie erwartet: \n\n\n\nIndividuelle Gestaltung:Auswahl an verschiedenen Farben und Materialien\, um ein ganz persönliches Farbspiel zu kreieren. \n\n\n\nAchtsamkeit und Entspannung:In einer ruhigen Atmosphäre (max. 7 Personen) kommen Sie mit sich in Kontakt und tanken dabei neue Energie. \n\n\n\nKunsttherapeut. Begleitung:Eine erfahrene Kunsttherapeutin unterstützt den Gestaltungsprozess. \n\n\n\nEinzigartige Erinnerungsstücke:Am Ende des Workshops halten Sie wunderschöne\, selbst verzierte Kerzen in Ihren Händen. \n\n\n\nGenießen Sie eine erdende kreative Auszeit in entspannter Atmosphäre mit Freunden\, Arbeitskollegen\, dem Partner oder für sich selbst unter Gleichgesinnten. \n\n\n\n\n\n\n\nGestaltet wird in einer kleinen Gruppe von max. 6 Teilnehmern.Vorkenntnisse sind nicht erforderlich. Somit ist der Workshop sehr gut für Anfänger geeignet.  \n\n\n\nMindestteilnehmerzahl: 4  \n\n\n\nGern kann auch ein individueller Termin nach Absprache mit mir vereinbart werden. Ich freue mich auf Sie! \n\n\n\n\n\n\n\nTermin: Samstag 20.12.2025\, 16 – 18 Uhr
URL:https://kreavivo.de/termin/kerzenzauber-4
LOCATION:Adresse\, Kirchberger Str. 7\, Wilkau-Haßlau\, Sachsen\, 08112\, Deutschland
CATEGORIES:Kreativwerkstatt,Sonstiges,Termine
ATTACH;FMTTYPE=image/jpeg:https://kreavivo.de/wp-content/uploads/2024/11/Workshop_Kerzenzauber_2.jpg
ORGANIZER;CN="Kreavivo - Praxis f%C3%BCr Kunsttherapie":MAILTO:info@kreavivo.de
END:VEVENT
END:VCALENDAR