BEGIN:VCALENDAR
VERSION:2.0
PRODID:-//Kreavivo Praxis für Kunsttherapie - ECPv6.15.13//NONSGML v1.0//EN
CALSCALE:GREGORIAN
METHOD:PUBLISH
X-WR-CALNAME:Kreavivo Praxis für Kunsttherapie
X-ORIGINAL-URL:https://kreavivo.de
X-WR-CALDESC:Veranstaltungen für Kreavivo Praxis für Kunsttherapie
REFRESH-INTERVAL;VALUE=DURATION:PT1H
X-Robots-Tag:noindex
X-PUBLISHED-TTL:PT1H
BEGIN:VTIMEZONE
TZID:Europe/Berlin
BEGIN:DAYLIGHT
TZOFFSETFROM:+0100
TZOFFSETTO:+0200
TZNAME:CEST
DTSTART:20250330T010000
END:DAYLIGHT
BEGIN:STANDARD
TZOFFSETFROM:+0200
TZOFFSETTO:+0100
TZNAME:CET
DTSTART:20251026T010000
END:STANDARD
BEGIN:DAYLIGHT
TZOFFSETFROM:+0100
TZOFFSETTO:+0200
TZNAME:CEST
DTSTART:20260329T010000
END:DAYLIGHT
BEGIN:STANDARD
TZOFFSETFROM:+0200
TZOFFSETTO:+0100
TZNAME:CET
DTSTART:20261025T010000
END:STANDARD
BEGIN:DAYLIGHT
TZOFFSETFROM:+0100
TZOFFSETTO:+0200
TZNAME:CEST
DTSTART:20270328T010000
END:DAYLIGHT
BEGIN:STANDARD
TZOFFSETFROM:+0200
TZOFFSETTO:+0100
TZNAME:CET
DTSTART:20271031T010000
END:STANDARD
END:VTIMEZONE
BEGIN:VEVENT
DTSTART;TZID=Europe/Berlin:20260207T100000
DTEND;TZID=Europe/Berlin:20260207T120000
DTSTAMP:20260420T114634
CREATED:20250109T191519Z
LAST-MODIFIED:20251204T133135Z
UID:7138-1770458400-1770465600@kreavivo.de
SUMMARY:KreaFAMILIE - Gestalten mit Ton
DESCRIPTION:Kreative Auszeit für Familien (Kinder\, Eltern\, Großeltern …) \n\n\n\n\n\n\n\n\n\nTon\, ein Material so alt wie die Menschheit selbst\, birgt eine unendliche Faszination. Seit Jahrtausenden formen Menschen aus diesem erdigen Rohstoff die unterschiedlichsten Objekte\, von einfachen Gefäßen bis hin zu komplexen Skulpturen. wobei dabei nicht nur die Fantasie\, sondern auch feinmotorische Fähigkeiten gefördert werden.Die Arbeit mit Ton bietet eine einzigartige Kombination aus kreativem Ausdruck und sinnlicher Erfahrung\, die viele Menschen als äußerst entspannend empfinden. Kinder und Erwachsene gleichermaßen finden Freude daran\, den Ton zu kneten\, zu formen und zu gestalten. \n\n\n\nWenn man Ton formt\, ist man ganz im Moment\, konzentriert auf das Material und die Bewegung der Hände. Diese Achtsamkeit trägt dazu bei\, den Geist zu beruhigen und Stress abzubauen. Darüber hinaus kann das kreative Schaffen mit Ton das Selbstbewusstsein stärken und ein Gefühl der Selbstwirksamkeit vermitteln\, da man buchstäblich etwas Greifbares aus dem Nichts erschafft. Es ist also nicht nur die Tätigkeit selbst\, die entspannend wirkt\, sondern auch das befriedigende Ergebnis\, das aus eigener Hand entsteht. Lassen Sie die Hände „sprechen“. \n\n\n\nGenießen Sie eine erdende kreative Auszeit in entspannter Atmosphäre mit Ihren Liebsten (Kinder\, Eltern und Großeltern – max. 8 Personen).Gern können Familien auch einen anderen individuellen Termin mit mir vereinbaren. Sprechen Sie mich gern dazu an. \n\n\n\n\n\n\n\nKeramische Kenntnisse sind nicht erforderlich. Somit ist der Workshop sehr gut für Anfänger geeignet.  \n\n\n\nMindestteilnehmerzahl: 3 Personen \n\n\n\nIn den Kosten enthalten sind 800g verarbeitungsfertiger Ton und das Brennen (ohne Glasur). Empfohlen wird die zusätzliche Buchung von „KreaTON –  Jetzt wird Ton bunt“\, um die gefertigten Objekte nach dem ersten Brand noch farblich gestalten zu können. \n\n\n\n\n\n\n\nTermin: Samstag 07.02.2026\, 10 – 12 Uhr \n\n\n\nGebühr: 50 € für 2 Personen\, jedes weitere Familienmitglied 20 € (max. 8 Personen)
URL:https://kreavivo.de/termin/kreafamilie-ton-1
LOCATION:Adresse\, Kirchberger Str. 7\, Wilkau-Haßlau\, Sachsen\, 08112\, Deutschland
CATEGORIES:Kreativwerkstatt,Sonstiges,Termine
ATTACH;FMTTYPE=image/jpeg:https://kreavivo.de/wp-content/uploads/2024/05/KreaTON_Gestalten.jpg
ORGANIZER;CN="Kreavivo - Praxis f%C3%BCr Kunsttherapie":MAILTO:info@kreavivo.de
END:VEVENT
BEGIN:VEVENT
DTSTART;TZID=Europe/Berlin:20260207T160000
DTEND;TZID=Europe/Berlin:20260207T180000
DTSTAMP:20260420T114634
CREATED:20250109T192857Z
LAST-MODIFIED:20251204T134126Z
UID:7160-1770480000-1770487200@kreavivo.de
SUMMARY:KreaTON - Gestalten mit Ton
DESCRIPTION:Kreative Auszeit für Erwachsene (als Einzelperson oder geschlossene Gruppe buchbar) \n\n\n\n\n\n\n\n\n\n \n\n\n\nTon\, ein Material so alt wie die Menschheit selbst\, birgt eine unendliche Faszination. Seit Jahrtausenden formen Menschen aus diesem erdigen Rohstoff die unterschiedlichsten Objekte\, von einfachen Gefäßen bis hin zu komplexen Skulpturen. Kinder und Erwachsene gleichermaßen finden Freude daran\, den Ton zu kneten\, zu formen und zu gestalten\, wobei dabei nicht nur die Fantasie\, sondern auch feinmotorische Fähigkeiten gefördert werden.Die Arbeit mit Ton bietet eine einzigartige Kombination aus kreativem Ausdruck und sinnlicher Erfahrung\, die viele Menschen als äußerst entspannend empfinden. Wenn man Ton formt\, ist man ganz im Moment\, konzentriert auf das Material und die Bewegung der Hände. Diese Achtsamkeit trägt dazu bei\, den Geist zu beruhigen und Stress abzubauen. Darüber hinaus kann das kreative Schaffen mit Ton das Selbstbewusstsein stärken und ein Gefühl der Selbstwirksamkeit vermitteln\, da man buchstäblich etwas Greifbares aus dem Nichts erschafft. Es ist also nicht nur die Tätigkeit selbst\, die entspannend wirkt\, sondern auch das befriedigende Ergebnis\, das aus eigener Hand entsteht. Lassen Sie die Hände „sprechen“. \n\n\n\nGenießen Sie eine erdende kreative Auszeit in entspannter Atmosphäre mit Freunden\, Arbeitskollegen\, dem Partner oder für sich selbst unter Gleichgesinnten. \n\n\n\n\n\n\n\nGestaltet wird in einer kleinen Gruppe von max. 8 Erwachsenen.Keramische Kenntnisse sind nicht erforderlich. Somit ist der Workshop sehr gut für Anfänger geeignet.  \n\n\n\nMindestteilnehmerzahl: 4 Erwachsene \n\n\n\nIn den Kosten enthalten sind 800g verarbeitungsfertiger Ton und das Brennen (ohne Glasur). Empfohlen wird die zusätzliche Buchung von „KreaTON –  Jetzt wird Ton bunt“\, um die gefertigten Objekte nach dem ersten Brand noch farblich gestalten zu können. \n\n\n\n\n\n\n\nTermin: Samstag 07.02.2026\, 16 – 18 Uhr
URL:https://kreavivo.de/termin/kreaton-1
LOCATION:Adresse\, Kirchberger Str. 7\, Wilkau-Haßlau\, Sachsen\, 08112\, Deutschland
CATEGORIES:Kreativwerkstatt,Sonstiges,Termine
ATTACH;FMTTYPE=image/jpeg:https://kreavivo.de/wp-content/uploads/2025/01/KreaTON_Gestalten2.jpg
ORGANIZER;CN="Kreavivo - Praxis f%C3%BCr Kunsttherapie":MAILTO:info@kreavivo.de
END:VEVENT
BEGIN:VEVENT
DTSTART;TZID=Europe/Berlin:20260209T090000
DTEND;TZID=Europe/Berlin:20260213T130000
DTSTAMP:20260420T114634
CREATED:20240604T110305Z
LAST-MODIFIED:20250905T175713Z
UID:5473-1770627600-1770987600@kreavivo.de
SUMMARY:Krea-Ferien: Vom Bild zum Film!
DESCRIPTION:Gemeinsam die „Magie“ der Stop-Motion-Technik entdecken.Kreative Ferienzeit für Kids und Teens \n\n\n\n\n\n\n\n\n\nAn 5 Ferientagen (jeweils von 9 – 13 Uhr) werden wir uns in einer kleinen Gruppe mit der „magischen“ Stop-Motion-Technik und der Erstellung von gleichnamigen Filmen auseinandersetzten und das Unbelebte zum Leben erwecken. Diese Form des Filmemachens ermöglicht es\, der Phantasie freien Lauf zu lassen und Geschichten auf eine Weise zu erzählen\, die sowohl visuell ansprechend als auch tiefgreifend interaktiv ist. Mit einfachen Mitteln können so eigene kleine Welten erschafft werden. Die Kinder lernen dabei\, wie man eine Geschichte entwickelt\, die Szenen plant und die Figuren Bild für Bild zum Leben erweckt. \n\n\n\nEs ist ein Prozess\, der Geduld und Präzision erfordert\, aber auch unglaublich belohnend ist\, wenn die Kinder ihren fertigen Film stolz präsentieren können. Stop-Motion bietet eine wunderbare Möglichkeit\, das Medium Film aktiv zu gestalten und eigene Ideen visuell auszudrücken. Diese Kunstform macht nicht nur Spaß\, sondern vermittelt auch wertvolle Fähigkeiten wie Teamarbeit\, Problemlösung und die Grundlagen des Storytellings. \n\n\n\n\nSchaffung einer produktiven Freizeitbeschäftigung\, insbesondere in den Ferienzeiten\n\n\n\nFörderung der aktiven Auseinandersetzung mit Medien (Medienkompetenzförderung)\n\n\n\nHeranführung an das Medium Trickfilm als ästhetische Kunstform\n\n\n\nFörderung von künstlerischen Aktivitäten (Geschichten schreiben\, Malen\, Basteln\, Geräusche und Musik entdecken und produzieren)\n\n\n\nFörderung von Kreativität\, Fantasie und der persönlichen Weiterentwicklung durch spezifische Themengebung und individuelle Begleitung\n\n\n\nFörderung sozialer Kompetenzen wie Teamgeist\, selbstständiges und verantwortungsbewusstes Arbeiten\, Durchsetzungsvermögen\, Förderung von Selbstbewusstsein\n\n\n\nMotivation der Kinder\, sich auch weiterhin in der Freizeit mit der Trickfilmerstellung zu beschäftigen (z.Bsp. Hobby)\n\n\n\n\n\n\n\n\nIn den Kosten enthalten ist das benötigte Material\, die Nutzung der technischen Ausstattung\, sowie täglich ein zweites Frühstück zur Stärkung in der Pause.Am letzten Tag (Freitag) laden wir Eltern / Großeltern zu einer Filmvorführung gegen 12.30 Uhr ein. \n\n\n\n\n\n\n\nMindestteilnehmerzahl: 3 Teilnehmer/innen \n\n\n\n\n\n\n\nTermin: 09.02. – 13.02.2026 (Montag – Freitag)Uhrzeit: täglich von 9 – 13 Uhr
URL:https://kreavivo.de/termin/kreaferien-vom-bild-zum-film
LOCATION:Adresse\, Kirchberger Str. 7\, Wilkau-Haßlau\, Sachsen\, 08112\, Deutschland
CATEGORIES:Kreativwerkstatt,Sonstiges,Termine
ATTACH;FMTTYPE=image/jpeg:https://kreavivo.de/wp-content/uploads/2024/06/Workshop_StopMotion_2.jpg
ORGANIZER;CN="Kreavivo - Praxis f%C3%BCr Kunsttherapie":MAILTO:info@kreavivo.de
END:VEVENT
BEGIN:VEVENT
DTSTART;TZID=Europe/Berlin:20260211T160000
DTEND;TZID=Europe/Berlin:20260211T180000
DTSTAMP:20260420T114634
CREATED:20250109T191733Z
LAST-MODIFIED:20251204T133209Z
UID:7142-1770825600-1770832800@kreavivo.de
SUMMARY:KreaFAMILIE - Gestalten mit Ton
DESCRIPTION:Kreative Auszeit für Familien (Kinder\, Eltern\, Großeltern …) \n\n\n\n\n\n\n\n\n\nTon\, ein Material so alt wie die Menschheit selbst\, birgt eine unendliche Faszination. Seit Jahrtausenden formen Menschen aus diesem erdigen Rohstoff die unterschiedlichsten Objekte\, von einfachen Gefäßen bis hin zu komplexen Skulpturen. wobei dabei nicht nur die Fantasie\, sondern auch feinmotorische Fähigkeiten gefördert werden.Die Arbeit mit Ton bietet eine einzigartige Kombination aus kreativem Ausdruck und sinnlicher Erfahrung\, die viele Menschen als äußerst entspannend empfinden. Kinder und Erwachsene gleichermaßen finden Freude daran\, den Ton zu kneten\, zu formen und zu gestalten. \n\n\n\nWenn man Ton formt\, ist man ganz im Moment\, konzentriert auf das Material und die Bewegung der Hände. Diese Achtsamkeit trägt dazu bei\, den Geist zu beruhigen und Stress abzubauen. Darüber hinaus kann das kreative Schaffen mit Ton das Selbstbewusstsein stärken und ein Gefühl der Selbstwirksamkeit vermitteln\, da man buchstäblich etwas Greifbares aus dem Nichts erschafft. Es ist also nicht nur die Tätigkeit selbst\, die entspannend wirkt\, sondern auch das befriedigende Ergebnis\, das aus eigener Hand entsteht. Lassen Sie die Hände „sprechen“. \n\n\n\nGenießen Sie eine erdende kreative Auszeit in entspannter Atmosphäre mit Ihren Liebsten (Kinder\, Eltern und Großeltern – max. 8 Personen).Gern können Familien auch einen anderen individuellen Termin mit mir vereinbaren. Sprechen Sie mich gern dazu an. \n\n\n\n\n\n\n\nKeramische Kenntnisse sind nicht erforderlich. Somit ist der Workshop sehr gut für Anfänger geeignet.  \n\n\n\nMindestteilnehmerzahl: 3 Personen \n\n\n\nIn den Kosten enthalten sind 800g verarbeitungsfertiger Ton und das Brennen (ohne Glasur). Empfohlen wird die zusätzliche Buchung von „KreaTON –  Jetzt wird Ton bunt“\, um die gefertigten Objekte nach dem ersten Brand noch farblich gestalten zu können. \n\n\n\n\n\n\n\nTermin: Mittwoch 11.02.2026\, 16 – 18 Uhr \n\n\n\nGebühr: 50 € für 2 Personen\, jedes weitere Familienmitglied 20 € (max. 8 Personen)
URL:https://kreavivo.de/termin/kreafamilie-ton-2
LOCATION:Adresse\, Kirchberger Str. 7\, Wilkau-Haßlau\, Sachsen\, 08112\, Deutschland
CATEGORIES:Kreativwerkstatt,Sonstiges,Termine
ATTACH;FMTTYPE=image/jpeg:https://kreavivo.de/wp-content/uploads/2024/05/KreaTON_Gestalten.jpg
ORGANIZER;CN="Kreavivo - Praxis f%C3%BCr Kunsttherapie":MAILTO:info@kreavivo.de
END:VEVENT
BEGIN:VEVENT
DTSTART;TZID=Europe/Berlin:20260211T190000
DTEND;TZID=Europe/Berlin:20260211T210000
DTSTAMP:20260420T114634
CREATED:20250109T193036Z
LAST-MODIFIED:20251204T134236Z
UID:7163-1770836400-1770843600@kreavivo.de
SUMMARY:KreaTON - Gestalten mit Ton
DESCRIPTION:Kreative Auszeit für Erwachsene (als Einzelperson oder geschlossene Gruppe buchbar) \n\n\n\n\n\n\n\n\n\n \n\n\n\nTon\, ein Material so alt wie die Menschheit selbst\, birgt eine unendliche Faszination. Seit Jahrtausenden formen Menschen aus diesem erdigen Rohstoff die unterschiedlichsten Objekte\, von einfachen Gefäßen bis hin zu komplexen Skulpturen. Kinder und Erwachsene gleichermaßen finden Freude daran\, den Ton zu kneten\, zu formen und zu gestalten\, wobei dabei nicht nur die Fantasie\, sondern auch feinmotorische Fähigkeiten gefördert werden.Die Arbeit mit Ton bietet eine einzigartige Kombination aus kreativem Ausdruck und sinnlicher Erfahrung\, die viele Menschen als äußerst entspannend empfinden. Wenn man Ton formt\, ist man ganz im Moment\, konzentriert auf das Material und die Bewegung der Hände. Diese Achtsamkeit trägt dazu bei\, den Geist zu beruhigen und Stress abzubauen. Darüber hinaus kann das kreative Schaffen mit Ton das Selbstbewusstsein stärken und ein Gefühl der Selbstwirksamkeit vermitteln\, da man buchstäblich etwas Greifbares aus dem Nichts erschafft. Es ist also nicht nur die Tätigkeit selbst\, die entspannend wirkt\, sondern auch das befriedigende Ergebnis\, das aus eigener Hand entsteht. Lassen Sie die Hände „sprechen“. \n\n\n\nGenießen Sie eine erdende kreative Auszeit in entspannter Atmosphäre mit Freunden\, Arbeitskollegen\, dem Partner oder für sich selbst unter Gleichgesinnten. \n\n\n\n\n\n\n\nGestaltet wird in einer kleinen Gruppe von max. 8 Erwachsenen.Keramische Kenntnisse sind nicht erforderlich. Somit ist der Workshop sehr gut für Anfänger geeignet.  \n\n\n\nMindestteilnehmerzahl: 4 Erwachsene \n\n\n\nIn den Kosten enthalten sind 800g verarbeitungsfertiger Ton und das Brennen (ohne Glasur). Empfohlen wird die zusätzliche Buchung von „KreaTON –  Jetzt wird Ton bunt“\, um die gefertigten Objekte nach dem ersten Brand noch farblich gestalten zu können. \n\n\n\n\n\n\n\nTermin: Mittwoch 11.02.2026\, 19 – 21 Uhr
URL:https://kreavivo.de/termin/kreaton-2
LOCATION:Adresse\, Kirchberger Str. 7\, Wilkau-Haßlau\, Sachsen\, 08112\, Deutschland
CATEGORIES:Kreativwerkstatt,Sonstiges,Termine
ATTACH;FMTTYPE=image/jpeg:https://kreavivo.de/wp-content/uploads/2025/01/KreaTON_Gestalten2.jpg
ORGANIZER;CN="Kreavivo - Praxis f%C3%BCr Kunsttherapie":MAILTO:info@kreavivo.de
END:VEVENT
BEGIN:VEVENT
DTSTART;TZID=Europe/Berlin:20260214T100000
DTEND;TZID=Europe/Berlin:20260214T120000
DTSTAMP:20260420T114634
CREATED:20250525T190924Z
LAST-MODIFIED:20251204T133258Z
UID:7894-1771063200-1771070400@kreavivo.de
SUMMARY:KreaFAMILIE - Gestalten mit Ton
DESCRIPTION:Kreative Auszeit für Familien (Kinder\, Eltern\, Großeltern …) \n\n\n\n\n\n\n\n\n\nTon\, ein Material so alt wie die Menschheit selbst\, birgt eine unendliche Faszination. Seit Jahrtausenden formen Menschen aus diesem erdigen Rohstoff die unterschiedlichsten Objekte\, von einfachen Gefäßen bis hin zu komplexen Skulpturen. wobei dabei nicht nur die Fantasie\, sondern auch feinmotorische Fähigkeiten gefördert werden.Die Arbeit mit Ton bietet eine einzigartige Kombination aus kreativem Ausdruck und sinnlicher Erfahrung\, die viele Menschen als äußerst entspannend empfinden. Kinder und Erwachsene gleichermaßen finden Freude daran\, den Ton zu kneten\, zu formen und zu gestalten. \n\n\n\nWenn man Ton formt\, ist man ganz im Moment\, konzentriert auf das Material und die Bewegung der Hände. Diese Achtsamkeit trägt dazu bei\, den Geist zu beruhigen und Stress abzubauen. Darüber hinaus kann das kreative Schaffen mit Ton das Selbstbewusstsein stärken und ein Gefühl der Selbstwirksamkeit vermitteln\, da man buchstäblich etwas Greifbares aus dem Nichts erschafft. Es ist also nicht nur die Tätigkeit selbst\, die entspannend wirkt\, sondern auch das befriedigende Ergebnis\, das aus eigener Hand entsteht. Lassen Sie die Hände „sprechen“. \n\n\n\nGenießen Sie eine erdende kreative Auszeit in entspannter Atmosphäre mit Ihren Liebsten (Kinder\, Eltern und Großeltern – max. 8 Personen).Gern können Familien auch einen anderen individuellen Termin mit mir vereinbaren. Sprechen Sie mich gern dazu an. \n\n\n\n\n\n\n\nKeramische Kenntnisse sind nicht erforderlich. Somit ist der Workshop sehr gut für Anfänger geeignet.  \n\n\n\nMindestteilnehmerzahl: 3 Personen \n\n\n\nIn den Kosten enthalten sind 800g verarbeitungsfertiger Ton und das Brennen (ohne Glasur). Empfohlen wird die zusätzliche Buchung von „KreaTON –  Jetzt wird Ton bunt“\, um die gefertigten Objekte nach dem ersten Brand noch farblich gestalten zu können. \n\n\n\n\n\n\n\nTermin: Freitag 14.02.2026\, 10 – 12 Uhr \n\n\n\nGebühr: 50 € für 2 Personen\, jedes weitere Familienmitglied 20 € (max. 8 Personen)
URL:https://kreavivo.de/termin/kreafamilie-ton-3
LOCATION:Adresse\, Kirchberger Str. 7\, Wilkau-Haßlau\, Sachsen\, 08112\, Deutschland
CATEGORIES:Kreativwerkstatt,Sonstiges,Termine
ATTACH;FMTTYPE=image/jpeg:https://kreavivo.de/wp-content/uploads/2024/05/KreaTON_Gestalten.jpg
ORGANIZER;CN="Kreavivo - Praxis f%C3%BCr Kunsttherapie":MAILTO:info@kreavivo.de
END:VEVENT
BEGIN:VEVENT
DTSTART;TZID=Europe/Berlin:20260218T150000
DTEND;TZID=Europe/Berlin:20260218T170000
DTSTAMP:20260420T114634
CREATED:20250110T095457Z
LAST-MODIFIED:20260112T163918Z
UID:7265-1771426800-1771434000@kreavivo.de
SUMMARY:KreaFAMILIE - Farbenfroher Ferienstart für die ganze Familie
DESCRIPTION:Kreative Auszeit für Familien (Kinder\, Eltern\, Großeltern …) \n\n\n\n\n\n\n\n\n\n \n\n\n\nDer Beginn der Ferien ist für viele ein magischer Moment\, der Freiheit und unbegrenzte Möglichkeiten verspricht. Es ist die Zeit\, in der man den Alltagsstress hinter sich lassen und sich auf Abenteuer\, Entspannung oder das Erlernen neuer Fähigkeiten freuen kann. Die Vorfreude auf das Ausschlafen\, das Treffen mit Freunden und das Genießen der Freizeit ohne Zeitdruck machen die Ferien zu etwas Besonderem und Erholsamen. In dieser Zeit haben wir Gelegenheit einfach mal nichts zu tun und die Seele baumeln zu lassen\, um uns zu erholen und mit frischer Energie in den Alltag zurückzukehren. Ferienbeginn ist toll\, weil jeder Tag das Potenzial hat\, unvergesslich zu werden. \n\n\n\nWarum also nicht einmal die vorangegangenen Schulwochen (oftmals gefüllt mit Hausaufgaben\, Lernstress und Terminen) farbenfroh verabschieden und die Ferien willkommen heißen. Sich selbst mal so richtig für alles Geschaffte zu feiern! Sich zusammen mit den Liebsten darüber zu freuen\, dass Großes innerhalb der Familie geleistet wurde. Eine kreative Familienzeit\, die wertvolle Erinnerungen schafft. Malen Sie ungestört als gesamte Familie (Kinder\, Eltern und Großeltern – max. 7 Personen) an deckenhohen Malwänden und großer Gouache – Farbauswahl oder einzeln mit Ihrem Kind im eingerichteten Malraum.  \n\n\n\nGern können Familien auch einen anderen individuellen Termin mit mir vereinbaren. Sprechen Sie mich gern dazu an. \n\n\n\n\n\n\n\n \n\n\n\nMindestteilnehmerzahl: 3 Personen \n\n\n\nIn den Kosten enthalten ist sämtliches verbrauchtes/genutztes Material. \n\n\n\n\n\n\n\nTermin: Mittwoch 18.02.2026\, 15 – 17 Uhr \n\n\n\nGebühr: 45 € für 2 Personen\, jedes weitere Familienmitglied 21 € (max. 7 Personen)
URL:https://kreavivo.de/termin/kreafamilie-ferienstart-1
LOCATION:Adresse\, Kirchberger Str. 7\, Wilkau-Haßlau\, Sachsen\, 08112\, Deutschland
CATEGORIES:Malraum,Sonstiges,Termine
ATTACH;FMTTYPE=image/jpeg:https://kreavivo.de/wp-content/uploads/2024/05/Kreafamilie_Ferienstart-1.jpg
ORGANIZER;CN="Kreavivo - Praxis f%C3%BCr Kunsttherapie":MAILTO:info@kreavivo.de
END:VEVENT
BEGIN:VEVENT
DTSTART;TZID=Europe/Berlin:20260225T173000
DTEND;TZID=Europe/Berlin:20260225T193000
DTSTAMP:20260420T114634
CREATED:20250109T193154Z
LAST-MODIFIED:20251204T134334Z
UID:7167-1772040600-1772047800@kreavivo.de
SUMMARY:KreaTON - Gestalten mit Ton
DESCRIPTION:Kreative Auszeit für Erwachsene (als Einzelperson oder geschlossene Gruppe buchbar) \n\n\n\n\n\n\n\n\n\n \n\n\n\nTon\, ein Material so alt wie die Menschheit selbst\, birgt eine unendliche Faszination. Seit Jahrtausenden formen Menschen aus diesem erdigen Rohstoff die unterschiedlichsten Objekte\, von einfachen Gefäßen bis hin zu komplexen Skulpturen. Kinder und Erwachsene gleichermaßen finden Freude daran\, den Ton zu kneten\, zu formen und zu gestalten\, wobei dabei nicht nur die Fantasie\, sondern auch feinmotorische Fähigkeiten gefördert werden.Die Arbeit mit Ton bietet eine einzigartige Kombination aus kreativem Ausdruck und sinnlicher Erfahrung\, die viele Menschen als äußerst entspannend empfinden. Wenn man Ton formt\, ist man ganz im Moment\, konzentriert auf das Material und die Bewegung der Hände. Diese Achtsamkeit trägt dazu bei\, den Geist zu beruhigen und Stress abzubauen. Darüber hinaus kann das kreative Schaffen mit Ton das Selbstbewusstsein stärken und ein Gefühl der Selbstwirksamkeit vermitteln\, da man buchstäblich etwas Greifbares aus dem Nichts erschafft. Es ist also nicht nur die Tätigkeit selbst\, die entspannend wirkt\, sondern auch das befriedigende Ergebnis\, das aus eigener Hand entsteht. Lassen Sie die Hände „sprechen“. \n\n\n\nGenießen Sie eine erdende kreative Auszeit in entspannter Atmosphäre mit Freunden\, Arbeitskollegen\, dem Partner oder für sich selbst unter Gleichgesinnten. \n\n\n\n\n\n\n\nGestaltet wird in einer kleinen Gruppe von max. 8 Erwachsenen.Keramische Kenntnisse sind nicht erforderlich. Somit ist der Workshop sehr gut für Anfänger geeignet.  \n\n\n\nMindestteilnehmerzahl: 4 Erwachsene \n\n\n\nIn den Kosten enthalten sind 800g verarbeitungsfertiger Ton und das Brennen (ohne Glasur). Empfohlen wird die zusätzliche Buchung von „KreaTON –  Jetzt wird Ton bunt“\, um die gefertigten Objekte nach dem ersten Brand noch farblich gestalten zu können. \n\n\n\n\n\n\n\nTermin: Mittwoch 25.02.2026\, 17.30 – 19.30 Uhr
URL:https://kreavivo.de/termin/kreaton-3
LOCATION:Adresse\, Kirchberger Str. 7\, Wilkau-Haßlau\, Sachsen\, 08112\, Deutschland
CATEGORIES:Kreativwerkstatt,Sonstiges,Termine
ATTACH;FMTTYPE=image/jpeg:https://kreavivo.de/wp-content/uploads/2025/01/KreaTON_Gestalten2.jpg
ORGANIZER;CN="Kreavivo - Praxis f%C3%BCr Kunsttherapie":MAILTO:info@kreavivo.de
END:VEVENT
BEGIN:VEVENT
DTSTART;TZID=Europe/Berlin:20260228T100000
DTEND;TZID=Europe/Berlin:20260228T120000
DTSTAMP:20260420T114634
CREATED:20250109T211832Z
LAST-MODIFIED:20251204T135121Z
UID:7232-1772272800-1772280000@kreavivo.de
SUMMARY:KreaTON - Keramik mit Glasuren bemalen
DESCRIPTION:Kreative Auszeit für Erwachsene (als Einzelperson oder geschlossene Gruppe buchbar) \n\n\n\n\n\n\n\n\n\n \n\n\n\nMit dem farbigen Glasieren des Tonobjekts bietet sich Ihnen die Möglichkeit das bereits gestaltete Ton-Kunstwerk\, aus dem Workshop „KreaTON – Gestalten mit Ton“\, mit farbigen Glasuren noch individueller\, persönlicher und lebendiger erscheinen zu lassen. Bemalen Sie Ihre Keramik mit verschiedenen Glasuren und verleihen dieser somit die besondere Farbnote. \n\n\n\nGreifen Sie in entspannter lockerer Atmosphäre\, z.Bsp. mit Freunden\, Kollegen oder Gleichgesinnten\, zu Pinsel und Glasur und lassen sich von der farbigen Verwandlung des Tons überraschen.Beim Malen\, ist man ganz im Moment. Diese Achtsamkeit trägt dazu bei\, den Geist zu beruhigen und Stress abzubauen. Ganz intuitiv entsteht somit aus dem „Rohling“ ein richtiges Schmuckstück mit Persönlichkeit. \n\n\n\n\n\n\n\nGlasiert wird in einer kleinen Gruppe von max. 8 Erwachsenen.Keramische Kenntnisse sind nicht erforderlich. Somit ist der Workshop sehr gut für Anfänger geeignet.  \n\n\n\nMindestteilnehmerzahl: 4 Erwachsene \n\n\n\nIn den Kosten enthalten sind die genutzten und verbrauchten Glasuren\, sowie der Ofenbrand. Empfohlen wird die zusätzliche Buchung von „KreaTON – Gestalten mit Ton“\, da nur die dort gefertigten Rohlinge bemalt und gebrannt werden können. \n\n\n\nNach dem Glasurbrand kann das fertige Objekt vor Ort abgeholt werden. \n\n\n\n\n\n\n\nTermin: Samstag 28.02.2026\, 10 – 12 Uhr
URL:https://kreavivo.de/termin/kreaton-bunt-1
LOCATION:Adresse\, Kirchberger Str. 7\, Wilkau-Haßlau\, Sachsen\, 08112\, Deutschland
CATEGORIES:Kreativwerkstatt,Sonstiges,Termine
ATTACH;FMTTYPE=image/jpeg:https://kreavivo.de/wp-content/uploads/2025/01/KreaTON_Glasieren2.jpg
ORGANIZER;CN="Kreavivo - Praxis f%C3%BCr Kunsttherapie":MAILTO:info@kreavivo.de
END:VEVENT
END:VCALENDAR